BEGIN:VCALENDAR
VERSION:2.0
PRODID:-//American Citizen - ECPv6.15.18//NONSGML v1.0//EN
CALSCALE:GREGORIAN
METHOD:PUBLISH
X-WR-CALNAME:American Citizen
X-ORIGINAL-URL:https://americancitizens.us
X-WR-CALDESC:Events for American Citizen
REFRESH-INTERVAL;VALUE=DURATION:PT1H
X-Robots-Tag:noindex
X-PUBLISHED-TTL:PT1H
BEGIN:VTIMEZONE
TZID:UTC
BEGIN:STANDARD
TZOFFSETFROM:+0000
TZOFFSETTO:+0000
TZNAME:UTC
DTSTART:20230101T000000
END:STANDARD
END:VTIMEZONE
BEGIN:VEVENT
DTSTART;TZID=UTC:20240905T190000
DTEND;TZID=UTC:20240905T210000
DTSTAMP:20260423T112742
CREATED:20240303T080529Z
LAST-MODIFIED:20240727T231009Z
UID:499-1725562800-1725570000@americancitizens.us
SUMMARY:What Must I Do?
DESCRIPTION:
URL:https://americancitizens.us/event/what-must-i-do/
LOCATION:American Legion\, 1120 W 1st St\, Dixon\, Dixon\, IL\, 61021\, United States
END:VEVENT
BEGIN:VEVENT
DTSTART;TZID=UTC:20240801T190000
DTEND;TZID=UTC:20240801T210000
DTSTAMP:20260423T112742
CREATED:20240303T080437Z
LAST-MODIFIED:20240727T230904Z
UID:497-1722538800-1722546000@americancitizens.us
SUMMARY:What Should I Do?
DESCRIPTION:
URL:https://americancitizens.us/event/what-should-i-do/
LOCATION:American Legion\, 1120 W 1st St\, Dixon\, Dixon\, IL\, 61021\, United States
END:VEVENT
BEGIN:VEVENT
DTSTART;TZID=UTC:20240701T193000
DTEND;TZID=UTC:20240701T203000
DTSTAMP:20260423T112742
CREATED:20240303T080344Z
LAST-MODIFIED:20240617T202513Z
UID:495-1719862200-1719865800@americancitizens.us
SUMMARY:Why Don’t We Have a King?
DESCRIPTION:
URL:https://americancitizens.us/event/why-dont-we-have-a-king/
LOCATION:American Legion\, 1120 W 1st St\, Dixon\, Dixon\, IL\, 61021\, United States
END:VEVENT
BEGIN:VEVENT
DTSTART;TZID=UTC:20240606T193000
DTEND;TZID=UTC:20240606T203000
DTSTAMP:20260423T112742
CREATED:20240303T080211Z
LAST-MODIFIED:20240507T185139Z
UID:493-1717702200-1717705800@americancitizens.us
SUMMARY:Why Am I a Citizen of the United States and Not of Some Other Country?
DESCRIPTION:
URL:https://americancitizens.us/event/why-am-i-a-citizen-of-the-united-states-and-not-of-some-other-country/
LOCATION:American Legion\, 1120 W 1st St\, Dixon\, Dixon\, IL\, 61021\, United States
END:VEVENT
BEGIN:VEVENT
DTSTART;TZID=UTC:20240502T190000
DTEND;TZID=UTC:20240502T210000
DTSTAMP:20260423T112742
CREATED:20240303T080027Z
LAST-MODIFIED:20240409T204611Z
UID:491-1714676400-1714683600@americancitizens.us
SUMMARY:Who is my neighbor?
DESCRIPTION:
URL:https://americancitizens.us/event/who-is-my-neighbor/
LOCATION:Armor Techs\, https://maps.app.goo.gl/utU8am1GmcjifMxU6\, Dixon\, IL\, 61061\, United States
END:VEVENT
BEGIN:VEVENT
DTSTART;TZID=UTC:20240404T190000
DTEND;TZID=UTC:20240404T203000
DTSTAMP:20260423T112742
CREATED:20240224T010426Z
LAST-MODIFIED:20240224T010426Z
UID:475-1712257200-1712262600@americancitizens.us
SUMMARY:Community Chat April "Government and Social Conformity"
DESCRIPTION:
URL:https://americancitizens.us/event/community-chat-april-government-and-social-conformity/
LOCATION:Armor Techs\, https://maps.app.goo.gl/utU8am1GmcjifMxU6\, Dixon\, IL\, 61061\, United States
END:VEVENT
END:VCALENDAR